BEGIN:VCALENDAR
VERSION:2.0
PRODID:-//wp-events-plugin.com//7.0.5//EN
TZID:America/Los_Angeles
X-WR-TIMEZONE:America/Los_Angeles
BEGIN:VEVENT
UID:273@ladiekakes.com
DTSTART;TZID=America/Los_Angeles:20250328T180000
DTEND;TZID=America/Los_Angeles:20250328T210000
DTSTAMP:20250324T005630Z
URL:https://ladiekakes.com/events/4th-friday-on-4th-street/
SUMMARY:4th Friday on 4th Street
DESCRIPTION:
LOCATION:HardWorx Fitness\, 1936 E. 4th St.\, Long Beach\, California\, 908
 02\, United States
GEO:33.771509;-118.167996
X-APPLE-STRUCTURED-LOCATION;VALUE=URI;X-ADDRESS=1936 E. 4th St.\, Long Beac
 h\, California\, 90802\, United States;X-APPLE-RADIUS=100;X-TITLE=HardWorx
  Fitness:geo:33.771509,-118.167996
END:VEVENT
BEGIN:VTIMEZONE
TZID:America/Los_Angeles
X-LIC-LOCATION:America/Los_Angeles
BEGIN:DAYLIGHT
DTSTART:20250309T030000
TZOFFSETFROM:-0800
TZOFFSETTO:-0700
TZNAME:PDT
END:DAYLIGHT
END:VTIMEZONE
END:VCALENDAR